BEGIN:VCALENDAR
VERSION:2.0
PRODID:-//eventon.com NONSGML v1.0//EN
CALSCALE:GREGORIAN
METHOD:PUBLISH
BEGIN:VEVENT
UID:69e788d8dbc9d
DTSTAMP:20260421T142528Z
DTSTART:20250927T070000Z
DTEND:20251005T113000Z
LOCATION:Legnicka 62 ul. Legnicka 62\,  wejÅ›cie B\,  pokÃ³j nr 104 | 54-204 WrocÅ‚aw
SUMMARY:Prawo jazdy kat. B - kurs weekendowy
DESCRIPTION:Weekendowy kurs prawa jazdy kategorii B organizowany w siedzibi
 e SzkoÅ‚y Jazdy WrocDrive przy ulicy Legnickiej 62 (wejÅ›cie B\,  pokÃ³j nr
  104) we WrocÅ‚awiu. Teoria realizowana jest podczas czterech spotkaÅ„ wykÅ
 ‚adowych w dwa wybrane weekendy miesiÄ…ca. W odrÃ³Å¼nieniu od e-learningu z
 ajÄ™cia odbywajÄ… siÄ™ na sali wykÅ‚adowej w bezpoÅ›rednim kontakcie z wykÅ
 ‚adowcÄ…[..]\nhttps://wrocdrive.pl/events/prawo-jazdy-kat-b-kurs-weekendowy
 /var/ri-10.l-L1
URL:https://wrocdrive.pl/events/prawo-jazdy-kat-b-kurs-weekendowy/var/ri-10.l-L1
END:VEVENT
END:VCALENDAR